BEGIN:VCALENDAR
VERSION:2.0
PRODID:-//IIETIQUETTE - ECPv6.15.13//NONSGML v1.0//EN
CALSCALE:GREGORIAN
METHOD:PUBLISH
X-ORIGINAL-URL:https://iieaps.com
X-WR-CALDESC:Events for IIETIQUETTE
REFRESH-INTERVAL;VALUE=DURATION:PT1H
X-Robots-Tag:noindex
X-PUBLISHED-TTL:PT1H
BEGIN:VTIMEZONE
TZID:America/New_York
BEGIN:DAYLIGHT
TZOFFSETFROM:-0500
TZOFFSETTO:-0400
TZNAME:EDT
DTSTART:20240310T070000
END:DAYLIGHT
BEGIN:STANDARD
TZOFFSETFROM:-0400
TZOFFSETTO:-0500
TZNAME:EST
DTSTART:20241103T060000
END:STANDARD
BEGIN:DAYLIGHT
TZOFFSETFROM:-0500
TZOFFSETTO:-0400
TZNAME:EDT
DTSTART:20250309T070000
END:DAYLIGHT
BEGIN:STANDARD
TZOFFSETFROM:-0400
TZOFFSETTO:-0500
TZNAME:EST
DTSTART:20251102T060000
END:STANDARD
BEGIN:DAYLIGHT
TZOFFSETFROM:-0500
TZOFFSETTO:-0400
TZNAME:EDT
DTSTART:20260308T070000
END:DAYLIGHT
BEGIN:STANDARD
TZOFFSETFROM:-0400
TZOFFSETTO:-0500
TZNAME:EST
DTSTART:20261101T060000
END:STANDARD
END:VTIMEZONE
BEGIN:VEVENT
DTSTART;TZID=America/New_York:20250518T130000
DTEND;TZID=America/New_York:20250518T150000
DTSTAMP:20260422T012449
CREATED:20241213T200529Z
LAST-MODIFIED:20250523T150228Z
UID:10012-1747573200-1747580400@iieaps.com
SUMMARY:Shine While You Dine Event
DESCRIPTION:This one-of-a-kind workshop offers boys and girls an opportunity to learn about proper social skills and how to shine in any dining situation.  \nDuring a 3 course meal.  This fun fill workshop focuses on:   \n\nHow to navigate a place setting and menu\nHow to hold utensils properly and understand your napkin\nUnderstand manners for specific courses in the meal from salad to dessert \nBehavior and appropriate conversation at the table  \nOther simple courtesies that will help them become more confident. 
URL:https://iieaps.com/event/shine-while-you-dine/
LOCATION:Additional details coming soon
ATTACH;FMTTYPE=image/jpeg:https://iieaps.com/wp-content/uploads/2023/09/IIETIQUETTE-79.jpg
END:VEVENT
END:VCALENDAR